BEGIN:VCALENDAR
VERSION:2.0
METHOD:PUBLISH
PRODID:-//Agenda.ad//NONSGML v1.0//EN
BEGIN:VEVENT
CLASS:PUBLIC
UID:0d281d0c8b5feb374e990e522cc26c20@agenda.ad
DTSTAMP:20260421T161626Z
DTSTART:20260507T220000Z
DTEND:20260509T220000Z
SUMMARY:VIDE DRESSING | EDICI&Oacute; PRIMAVERA 2026
DESCRIPTION:Arriba l’edició de primavera del Vide Dressing,
  el mercat de roba i complements de segona mà m&eacut
 e;s esperat! Tres dies ideals per renovar l’armari de 
 manera sostenible, descobrir peces úniques i donar un
 a nova vida a la moda.\n\nMés informació\nhttps://www.agen
 da.ad/activitat/la-massana/fires-i-mercats/vide-dressing-|-e
 dicio-primavera-2026\n
LOCATION:Poble de la Massana
SEQUENCE:0
TRANSP:OPAQUE
X-ALT-DESC;FMTTYPE=text/html:<!DOCTYPE HTML PUBLIC "-//W3C//DTD HTML 3.2//EN"><HTML><HEAD
 ><TITLE></TITLE></HEAD><BODY><FONT FACE="Arial" SIZE=2><p>Ar
 riba l&rsquo;edici&oacute; de primavera del Vide Dressing, e
 l mercat de roba i complements de segona m&agrave; m&eacute;
 s esperat! Tres dies ideals per renovar l&rsquo;armari de ma
 nera sostenible, descobrir peces &uacute;niques i donar una 
 nova vida a la moda.</p><br/><br/><b>Més informació</b><br
 /><a href="https://www.agenda.ad/activitat/la-massana/fires-
 i-mercats/vide-dressing-|-edicio-primavera-2026">https://www
 .agenda.ad/activitat/la-massana/fires-i-mercats/vide-dressin
 g-|-edicio-primavera-2026</a><br/></FONT></BODY></HTML>
END:VEVENT
END:VCALENDAR